BEGIN:VCALENDAR
VERSION:2.0
PRODID:-//Pulse Magazine - ECPv6.15.20//NONSGML v1.0//EN
CALSCALE:GREGORIAN
METHOD:PUBLISH
X-WR-CALNAME:Pulse Magazine
X-ORIGINAL-URL:https://pulsemagazine.ca
X-WR-CALDESC:Events for Pulse Magazine
REFRESH-INTERVAL;VALUE=DURATION:PT1H
X-Robots-Tag:noindex
X-PUBLISHED-TTL:PT1H
BEGIN:VTIMEZONE
TZID:UTC
BEGIN:STANDARD
TZOFFSETFROM:+0000
TZOFFSETTO:+0000
TZNAME:UTC
DTSTART:20220101T000000
END:STANDARD
END:VTIMEZONE
BEGIN:VEVENT
DTSTART;VALUE=DATE:20231013
DTEND;VALUE=DATE:20231016
DTSTAMP:20260425T194450
CREATED:20230528T011835Z
LAST-MODIFIED:20230917T004940Z
UID:2125-1697155200-1697414399@pulsemagazine.ca
SUMMARY:The Everything To Do With Sex Show (Toronto)
DESCRIPTION:The Everything To Do With Sex Show provides an upscale adult playground dedicated to enhancing lifestyles\, encouraging romance\, personal betterment and all things Taboo. Enjoy entertainment\, provocative and educational seminars\, unique shopping\, fashion shows and LIVE demonstrations.
URL:https://pulsemagazine.ca/event/the-everything-to-do-with-sex-show-toronto/
LOCATION:International Centre Hall\, 6458 Viscount Road\, Mississauga\, ON\, L4V 1H3\, Canada
CATEGORIES:Consumer Event
ATTACH;FMTTYPE=image/jpeg:https://pulsemagazine.ca/wp-content/uploads/2023/09/Taboo-Banner-copy.jpg
END:VEVENT
END:VCALENDAR