BEGIN:VCALENDAR
VERSION:2.0
PRODID:-//Pulse Magazine - ECPv6.15.20//NONSGML v1.0//EN
CALSCALE:GREGORIAN
METHOD:PUBLISH
X-WR-CALNAME:Pulse Magazine
X-ORIGINAL-URL:https://pulsemagazine.ca
X-WR-CALDESC:Events for Pulse Magazine
REFRESH-INTERVAL;VALUE=DURATION:PT1H
X-Robots-Tag:noindex
X-PUBLISHED-TTL:PT1H
BEGIN:VTIMEZONE
TZID:UTC
BEGIN:STANDARD
TZOFFSETFROM:+0000
TZOFFSETTO:+0000
TZNAME:UTC
DTSTART:20250101T000000
END:STANDARD
END:VTIMEZONE
BEGIN:VEVENT
DTSTART;VALUE=DATE:20260517
DTEND;VALUE=DATE:20260520
DTSTAMP:20260421T100244
CREATED:20240309T165151Z
LAST-MODIFIED:20250927T162549Z
UID:4853-1778976000-1779235199@pulsemagazine.ca
SUMMARY:EroSpain
DESCRIPTION:Located in Montjuic\, EroSpain is a B2B Expo exclusively for professionals from all over the world where all the best brands\, distributors and retailers will come together and display the latest innovations & technologies in toys\, lingerie\, pharmaceuticals and everything else related to the erotic market. Visit http://erospain.eu/en for more information.
URL:https://pulsemagazine.ca/event/erospain-2/
LOCATION:Fira de Barcelona\, Barcelona\, Spain
CATEGORIES:Trade Event
ATTACH;FMTTYPE=image/jpeg:https://pulsemagazine.ca/wp-content/uploads/2024/03/Fotos-feria_073.jpeg
END:VEVENT
BEGIN:VEVENT
DTSTART;VALUE=DATE:20260527
DTEND;VALUE=DATE:20260530
DTSTAMP:20260421T100244
CREATED:20251103T144513Z
LAST-MODIFIED:20251104T150317Z
UID:9851-1779840000-1780099199@pulsemagazine.ca
SUMMARY:Eden Japan Adult Expo
DESCRIPTION:EDEN JAPAN-ADULT EXPO 2026 will be held at the Tokyo Distribution Center from Wednesday\, May 27th to Friday\, May 29th\, 2026 \, bringing together approximately 250 leading brands in the adult industry. Expected to attract 10\,000 visitors\, this event will bring together industry professionals from Japan and abroad\, truly providing an opportunity to experience the “front lines of business.” Organized by EDEN JAPAN Co.\, Ltd. and the Houyu Group\, the event will include influential industry media such as ChinaSexQ\, ETO\, EAN&ELINE\, SIGN\, and Sugextions\, and with the backing of over 20 organizations\, it is a trusted and popular event. Discover the latest trends that will shape the future highly over these three days. We hope you’ll join us.
URL:https://pulsemagazine.ca/event/eden-japan-adult-expo/
LOCATION:Tokyo Ryutsu Center\, Japan
CATEGORIES:Trade Event
ATTACH;FMTTYPE=image/png:https://pulsemagazine.ca/wp-content/uploads/2025/11/Eden-Japan-Logo.png
END:VEVENT
BEGIN:VEVENT
DTSTART;VALUE=DATE:20260713
DTEND;VALUE=DATE:20260716
DTSTAMP:20260421T100244
CREATED:20240309T165009Z
LAST-MODIFIED:20250927T163023Z
UID:4849-1783900800-1784159999@pulsemagazine.ca
SUMMARY:ANME Founders
DESCRIPTION:The ANME Show is the trade show event for U.S. and Canadian-based manufacturers to showcase and sell their products to distributor and retailer buyers. Held at the Los Angeles Marriott Burbank Airport\, the ANME Show will feature the top names in the adult toy and novelty industry. Visit www.anmefounders.com.
URL:https://pulsemagazine.ca/event/anme-founders/
LOCATION:Los Angeles Marriott Burbank Airport\, 2500 N Hollywood Way\, Los Angeles\, CA\, United States
CATEGORIES:Trade Event
ATTACH;FMTTYPE=image/jpeg:https://pulsemagazine.ca/wp-content/uploads/2024/03/ANME_2019_031.jpeg
END:VEVENT
BEGIN:VEVENT
DTSTART;VALUE=DATE:20260803
DTEND;VALUE=DATE:20260805
DTSTAMP:20260421T100244
CREATED:20260319T143136Z
LAST-MODIFIED:20260319T143136Z
UID:10793-1785715200-1785887999@pulsemagazine.ca
SUMMARY:STIMULATE Show
DESCRIPTION:STIMULATE is a community-driven platform and event series designed to connect\, educate\, and empower adult novelty and sexual wellness professionals through meaningful conversations\, product discovery\, and experiences. It brings together industry leaders and innovators each August in Nashville\, TN\, for a trade show experience of more than 100 vendors and over 30 educational sessions. Learn more at StimulateTheShow.com. 
URL:https://pulsemagazine.ca/event/stimulate-show/
LOCATION:623 Union Street\, Sheraton Grand Nashville Downtown\, Nashville\, TN\, 37219\, United States
CATEGORIES:Trade Event
ATTACH;FMTTYPE=image/jpeg:https://pulsemagazine.ca/wp-content/uploads/2026/03/cb3eb41f-8d23-4e52-a80b-420caa7bd8b0-copy-scaled.jpg
END:VEVENT
BEGIN:VEVENT
DTSTART;VALUE=DATE:20260825
DTEND;VALUE=DATE:20260828
DTSTAMP:20260421T100244
CREATED:20240309T165519Z
LAST-MODIFIED:20250927T162752Z
UID:4856-1787616000-1787875199@pulsemagazine.ca
SUMMARY:Asia Adult Expo
DESCRIPTION:The Asia Adult Expo (AAE) is a pure B2B and exported oriented professional trade platform for global buyers in the Asia Pacific serving the Adult products and lingerie industry. This year it will return to Hong Kong to open the next milestone of the industry and attract more participants\, creating business opportunities. Visit http://asiaadultexpo.com for more info.
URL:https://pulsemagazine.ca/event/asia-adult-expo-2/
LOCATION:Hong Kong Convention and Exhibition Centre\, 1 Expo Drive\, Wan Chai\, Hong Kong
CATEGORIES:Trade Event
ATTACH;FMTTYPE=image/jpeg:https://pulsemagazine.ca/wp-content/uploads/2024/03/4e45fecd-ce9a-4ced-baa2-ee42adc8543f_l.jpeg
END:VEVENT
BEGIN:VEVENT
DTSTART;VALUE=DATE:20260918
DTEND;VALUE=DATE:20260921
DTSTAMP:20260421T100244
CREATED:20241222T210612Z
LAST-MODIFIED:20251104T010837Z
UID:7341-1789689600-1789948799@pulsemagazine.ca
SUMMARY:Shenzhen International Adult Expo
DESCRIPTION:Shenzhen International Adult Expo 2026 will be hosted in Shenzhen\, a city recognized as the core supply chain hub of China’s adult products industry. With a comprehensive manufacturing support system and a pronounced industrial agglomeration effect\, Shenzhen provides a robust foundation for the development and global outreach of the sector. \nSZIEXPO 2026 will cover an area of 40\,000 sqms and will gather over 400 selected exhibitors from the adult product supply chain\, including well-known brands\, manufacturing suppliers\, and innovative design and R&D enterprises.  It is expected to attract more than 65\,000 professional domestic and international visitors.Welcome to join us!
URL:https://pulsemagazine.ca/event/shenzhen-international-adult-expo/
LOCATION:Shenzhen International Convention and Exhibition Center\, Shenzhen International Convention and Exhibition Center\, No. 1\, Zhancheng Road\, Fuhai Street\, Bao'an District\, Shenzhen\, China
CATEGORIES:Trade Event
ATTACH;FMTTYPE=image/jpeg:https://pulsemagazine.ca/wp-content/uploads/2024/12/picture-scaled.jpg
END:VEVENT
END:VCALENDAR