BEGIN:VCALENDAR
VERSION:2.0
PRODID:-//Pulse Magazine - ECPv6.15.20//NONSGML v1.0//EN
CALSCALE:GREGORIAN
METHOD:PUBLISH
X-WR-CALNAME:Pulse Magazine
X-ORIGINAL-URL:https://pulsemagazine.ca
X-WR-CALDESC:Events for Pulse Magazine
REFRESH-INTERVAL;VALUE=DURATION:PT1H
X-Robots-Tag:noindex
X-PUBLISHED-TTL:PT1H
BEGIN:VTIMEZONE
TZID:UTC
BEGIN:STANDARD
TZOFFSETFROM:+0000
TZOFFSETTO:+0000
TZNAME:UTC
DTSTART:20230101T000000
END:STANDARD
END:VTIMEZONE
BEGIN:VEVENT
DTSTART;VALUE=DATE:20240322
DTEND;VALUE=DATE:20240325
DTSTAMP:20260423T173246
CREATED:20240309T164641Z
LAST-MODIFIED:20240309T164641Z
UID:4845-1711065600-1711324799@pulsemagazine.ca
SUMMARY:The Everything To Do With Sex Show  (Red Deer)
DESCRIPTION:The Everything To Do With Sex Show provides an upscale adult playground dedicated to enhancing lifestyles\, encouraging romance\, personal betterment and all things Taboo! Enjoy entertainment\, provocative and educational sem- inars\, unique shopping\, fashion shows and LIVE demonstrations. Visit http://tabooshow.com.
URL:https://pulsemagazine.ca/event/the-everything-to-do-with-sex-show-red-deer/
LOCATION:Park Land Pavillion\, Park Land Pavillion 46 Ave\, Red Deer\, Alberta\, T0M 1R0
CATEGORIES:Trade Event
ATTACH;FMTTYPE=image/jpeg:https://pulsemagazine.ca/wp-content/uploads/2024/03/aa65-20071020_everythingtodowith-copy.jpg
END:VEVENT
END:VCALENDAR