BEGIN:VCALENDAR
VERSION:2.0
PRODID:-//Pulse Magazine - ECPv6.15.20//NONSGML v1.0//EN
CALSCALE:GREGORIAN
METHOD:PUBLISH
X-ORIGINAL-URL:https://pulsemagazine.ca
X-WR-CALDESC:Events for Pulse Magazine
REFRESH-INTERVAL;VALUE=DURATION:PT1H
X-Robots-Tag:noindex
X-PUBLISHED-TTL:PT1H
BEGIN:VTIMEZONE
TZID:UTC
BEGIN:STANDARD
TZOFFSETFROM:+0000
TZOFFSETTO:+0000
TZNAME:UTC
DTSTART:20230101T000000
END:STANDARD
END:VTIMEZONE
BEGIN:VEVENT
DTSTART;VALUE=DATE:20240108
DTEND;VALUE=DATE:20240111
DTSTAMP:20260423T205508
CREATED:20231208T163748Z
LAST-MODIFIED:20231213T181829Z
UID:4031-1704672000-1704931199@pulsemagazine.ca
SUMMARY:ANME January Event
DESCRIPTION:The ANME Show is the trade show event for U.S. and Canadian-based manufacturers to showcase and sell their products to distributor and retailer buyers. Held at the Los Angeles Marriott Burbank Airport\, the ANME Show will feature the top names in the adult toy and novelty industry. Visit www.anmefounders.com.
URL:https://pulsemagazine.ca/event/amne-january-event/
LOCATION:Los Angeles Marriott Burbank Airport\, 2500 N Hollywood Way\, Los Angeles\, CA\, United States
CATEGORIES:Trade Event
ATTACH;FMTTYPE=image/jpeg:https://pulsemagazine.ca/wp-content/uploads/2023/12/anme_set_2-3.jpeg
END:VEVENT
END:VCALENDAR