BEGIN:VCALENDAR
VERSION:2.0
PRODID:-//Pulse Magazine - ECPv6.15.20//NONSGML v1.0//EN
CALSCALE:GREGORIAN
METHOD:PUBLISH
X-WR-CALNAME:Pulse Magazine
X-ORIGINAL-URL:https://pulsemagazine.ca
X-WR-CALDESC:Events for Pulse Magazine
REFRESH-INTERVAL;VALUE=DURATION:PT1H
X-Robots-Tag:noindex
X-PUBLISHED-TTL:PT1H
BEGIN:VTIMEZONE
TZID:UTC
BEGIN:STANDARD
TZOFFSETFROM:+0000
TZOFFSETTO:+0000
TZNAME:UTC
DTSTART:20220101T000000
END:STANDARD
END:VTIMEZONE
BEGIN:VEVENT
DTSTART;VALUE=DATE:20230829
DTEND;VALUE=DATE:20230901
DTSTAMP:20260424T023959
CREATED:20230525T014521Z
LAST-MODIFIED:20230525T014521Z
UID:2105-1693267200-1693526399@pulsemagazine.ca
SUMMARY:Asia Adult Expo
DESCRIPTION:The Asia Adult Expo (AAE) is a pure B2B and exported oriented professional trade platform for global buyers in the Asia Pacific serving the Adult products and lingerie industry. Due to the epidemic\, this year it will return to Hong Kong to open the next milestone of the industry and attract more participants\, creating  business opportunities.
URL:https://pulsemagazine.ca/event/asia-adult-expo/
LOCATION:Hong Kong Convention and Exhibition Centre\, 1 Expo Drive\, Wan Chai\, Hong Kong
CATEGORIES:Trade Event
ATTACH;FMTTYPE=image/jpeg:https://pulsemagazine.ca/wp-content/uploads/2023/05/image1.jpeg
END:VEVENT
END:VCALENDAR