BEGIN:VCALENDAR
VERSION:2.0
PRODID:-//Pulse Magazine - ECPv6.15.20//NONSGML v1.0//EN
CALSCALE:GREGORIAN
METHOD:PUBLISH
X-WR-CALNAME:Pulse Magazine
X-ORIGINAL-URL:https://pulsemagazine.ca
X-WR-CALDESC:Events for Pulse Magazine
REFRESH-INTERVAL;VALUE=DURATION:PT1H
X-Robots-Tag:noindex
X-PUBLISHED-TTL:PT1H
BEGIN:VTIMEZONE
TZID:UTC
BEGIN:STANDARD
TZOFFSETFROM:+0000
TZOFFSETTO:+0000
TZNAME:UTC
DTSTART:20220101T000000
END:STANDARD
END:VTIMEZONE
BEGIN:VEVENT
DTSTART;VALUE=DATE:20230710
DTEND;VALUE=DATE:20230713
DTSTAMP:20260424T053723
CREATED:20230513T194226Z
LAST-MODIFIED:20230513T194915Z
UID:1955-1688947200-1689206399@pulsemagazine.ca
SUMMARY:The ANME Show
DESCRIPTION:The Adult Novelty Manufacturers Expo is the trade show event for U.S. and Canadian-based manufacturers to showcase and sell their products to distributor and retailer buyers. Held at the Los Angeles Marriott Burbank Airport\, the ANME Show will feature the top names in the adult toy and novelty industry. \nANME Founders Represents Adult Novelty Manufacturers Of Intimate Toys\, Lingerie\, Lubricants And Novelties. \nThe ANME Show is the trade show event for U.S. and Canadian-based manufacturers to showcase and sell their products to distributor and retailer buyers. \nHeld at the Los Angeles Marriott Burbank Airport\, the ANME Show will feature the top names in the adult toy and novelty industry. \nAttendance at ANME Show is complimentary – we never charge admission for pre-registered qualified buyers.
URL:https://pulsemagazine.ca/event/the-anme-show/
LOCATION:Los Angeles Marriott Burbank Airport\, 2500 N Hollywood Way\, Los Angeles\, CA\, United States
CATEGORIES:Trade Event
ATTACH;FMTTYPE=image/jpeg:https://pulsemagazine.ca/wp-content/uploads/2023/05/anme_jul_2022img_0071.jpeg
ORGANIZER;CN="AMNE Founders Inc.":MAILTO:Val@anmefounders.com
END:VEVENT
END:VCALENDAR