BEGIN:VCALENDAR
VERSION:2.0
PRODID:-//Pulse Magazine - ECPv6.15.20//NONSGML v1.0//EN
CALSCALE:GREGORIAN
METHOD:PUBLISH
X-ORIGINAL-URL:https://pulsemagazine.ca
X-WR-CALDESC:Events for Pulse Magazine
REFRESH-INTERVAL;VALUE=DURATION:PT1H
X-Robots-Tag:noindex
X-PUBLISHED-TTL:PT1H
BEGIN:VTIMEZONE
TZID:UTC
BEGIN:STANDARD
TZOFFSETFROM:+0000
TZOFFSETTO:+0000
TZNAME:UTC
DTSTART:20230101T000000
END:STANDARD
END:VTIMEZONE
BEGIN:VEVENT
DTSTART;VALUE=DATE:20240214
DTEND;VALUE=DATE:20240218
DTSTAMP:20260423T172507
CREATED:20240122T011401Z
LAST-MODIFIED:20240122T011401Z
UID:4375-1707868800-1708214399@pulsemagazine.ca
SUMMARY:CHAMPS Trade Show (Las Vegas)
DESCRIPTION:CHAMPS Trade Shows provides a platform for a wide range of businesses\, including smoke shops\, vape shops\, dispensaries\, 420 counter-culture stores\, adult novelty shops\, C-Stores\, online marketers\, branders\, entrepreneurs\, glassblowers\, and counter-culture industry professionals. Our shows offer opportunities for these businesses to grow and gain current knowledge and product offerings\, allowing them to better leverage their business in a thriving marketplace.
URL:https://pulsemagazine.ca/event/champs-trade-show-las-vegas/
LOCATION:TN
CATEGORIES:Trade Event
ATTACH;FMTTYPE=image/webp:https://pulsemagazine.ca/wp-content/uploads/2024/01/Welcome_To_Fabulous_Las_Vegas_Nevada.jpg.webp
END:VEVENT
BEGIN:VEVENT
DTSTART;VALUE=DATE:20240226
DTEND;VALUE=DATE:20240229
DTSTAMP:20260423T172508
CREATED:20230516T195236Z
LAST-MODIFIED:20230516T195236Z
UID:1997-1708905600-1709164799@pulsemagazine.ca
SUMMARY:Altitude Intimates Show
DESCRIPTION:Sponsored by the Lingerie Industry Association (LIA)\, the Altitude Tradeshow is specifically for intimate apparel and does not focus on adult novelty (sex toys).
URL:https://pulsemagazine.ca/event/altitude-intimates-show/
LOCATION:Paris Las Vegas\, 3655 S. Las Vegas Blvd\, Las Vegas\, NV\, 89109\, United States
CATEGORIES:Trade Event
ATTACH;FMTTYPE=image/jpeg:https://pulsemagazine.ca/wp-content/uploads/2023/05/IMG_5152.jpeg
END:VEVENT
END:VCALENDAR