BEGIN:VCALENDAR
VERSION:2.0
PRODID:-//Pulse Magazine - ECPv6.15.20//NONSGML v1.0//EN
CALSCALE:GREGORIAN
METHOD:PUBLISH
X-ORIGINAL-URL:https://pulsemagazine.ca
X-WR-CALDESC:Events for Pulse Magazine
REFRESH-INTERVAL;VALUE=DURATION:PT1H
X-Robots-Tag:noindex
X-PUBLISHED-TTL:PT1H
BEGIN:VTIMEZONE
TZID:UTC
BEGIN:STANDARD
TZOFFSETFROM:+0000
TZOFFSETTO:+0000
TZNAME:UTC
DTSTART:20220101T000000
END:STANDARD
END:VTIMEZONE
BEGIN:VEVENT
DTSTART;VALUE=DATE:20260322
DTEND;VALUE=DATE:20260325
DTSTAMP:20260422T153530
CREATED:20241020T134306Z
LAST-MODIFIED:20250927T163235Z
UID:6701-1774137600-1774396799@pulsemagazine.ca
SUMMARY:Altitude Intimates Expo
DESCRIPTION:The Altitudes Intimates Expo has been the premiere event for the lingerie/apparel industry as well as adult novelty toys in North America\, including educational semiars\, workshops\, and live demontstration. Visit https://www.altitudeshow.com
URL:https://pulsemagazine.ca/event/altitude-intimates-expo/
LOCATION:Paris Las Vegas\, 3655 S. Las Vegas Blvd\, Las Vegas\, NV\, 89109\, United States
CATEGORIES:Consumer Event
ATTACH;FMTTYPE=image/jpeg:https://pulsemagazine.ca/wp-content/uploads/2024/10/images.jpeg
END:VEVENT
BEGIN:VEVENT
DTSTART;TZID=UTC:20250824T100000
DTEND;TZID=UTC:20250824T180000
DTSTAMP:20260422T153530
CREATED:20250731T174911Z
LAST-MODIFIED:20250731T175439Z
UID:9099-1756029600-1756058400@pulsemagazine.ca
SUMMARY:Taboo Collective Kink Fair 2025
DESCRIPTION:The Taboo Collective Kink fair is designed for curious\, open-minded\, and engaged adults who are interested in bdsm\, kink\, alternative sexuality\, and body autonomy in a safe\, affirming space. Over 40 unique vendore. Explore a curated marketplace of adult products\, fetish gear\, handmade art\, kink literature\, bdsm furniture\, and more. \n\nLive educational speakers\nEngaging talks and panels from community educators\, sex-positive professionals\, and lifestyle leaders.\nBoudoir photo shoot experience\nEmpowering\, body-positive photography sessions available on-site.\nTattoo & piercing station\nLicensed artists offering select services during the event\, with proper health and safety protocols.\nDrag performances\nFierce\, fabulous shows featuring local queer talent celebrating kink and pride.\nTarot readings by vibrating tarot\nSpiritual and sensual insight from the creators of the vibrating tarot deck.\nAmazing door prizes\nGiveaways and draws throughout the day — don’t miss your chance to win something spicy.\nCommunity & advocacy booths\nConnect with local groups\, organizations\, and educators building safer\, sex-positive spaces in niagara and beyond.\nPhoto ops \nCapture your look and the vibe at our on-site selfie stations and styled spaces.\nFood & refreshments\nFuel your fun with delicious bites and non-alcoholic drinks available all day.\n\n\nWe attract a diverse\, vibrant\, and passionate community including: \n🖤 kink practitioners and bdsm lifestyle participants (from beginner to experienced) \n🏳️‍🌈 lgbtqia2s+ adults seeking inclusive and affirming adult spaces \n🧠 sex-positive educators\, therapists\, and advocates \n🌈 curious newcomers interested in learning about kink in a safe\, shame-free environment \n🎨 artists\, makers\, and vendors specializing in erotic\, handmade\, or alternative goods \n🧷 fetish fashion fans and alternative lifestyle enthusiasts \n♿ disabled\, neurodivergent\, and bipoc individuals often underrepresented in mainstream kink spaces \n💬 consent-conscious adults looking to build community through education and connection \nOur audience is 18+\, with the majority aged 25–45\, spanning a range of identities\, backgrounds\, and relationship styles. They are highly engaged\, value authenticity\, and are eager to support inclusive businesses\, services\, and creators. \nThe taboo collective kink fair 2025 is a bold\, grassroots event that offers media outlets and press partners the chance to spotlight a growing movement rooted in consent\, education\, and alternative culture. Whether you’re covering kink culture\, local community initiatives\, inclusive business\, or the evolution of adult events in canada — this is a must-cover event. \n🔗 instagram: @eventsthetaboocollective  \n🔗 facebook: taboo collective events \n🌐 website: thetaboocollectiveevents.net
URL:https://pulsemagazine.ca/event/taboo-collective-kink-fair-2025/
LOCATION:Americana Conference Resort & Spa\, 8444 Lundy's Lane\, Niagara Falls\, Ontario\, L2H 1H4\, Canada
CATEGORIES:Consumer Event
ATTACH;FMTTYPE=image/jpeg:https://pulsemagazine.ca/wp-content/uploads/2025/07/babi-J2WtmzRATog-unsplash.jpg
END:VEVENT
BEGIN:VEVENT
DTSTART;VALUE=DATE:20240202
DTEND;VALUE=DATE:20240205
DTSTAMP:20260422T153530
CREATED:20230917T004336Z
LAST-MODIFIED:20230917T004336Z
UID:3217-1706832000-1707091199@pulsemagazine.ca
SUMMARY:The Everything To Do With Sex Show (Vancouver)
DESCRIPTION:The Everything To Do With Sex Show provides an upscale adult playground dedicated to enhancing lifestyles\, encouraging romance\, personal betterment and all things Taboo. Enjoy entertainment\, provocative and educational seminars\, unique shopping\, fashion shows and LIVE demonstrations.
URL:https://pulsemagazine.ca/event/the-everything-to-do-with-sex-show-vancouver/
LOCATION:Vancouver Convention Centre\, Vacnouver\, BC\, Canada
CATEGORIES:Consumer Event
ATTACH;FMTTYPE=image/jpeg:https://pulsemagazine.ca/wp-content/uploads/2023/09/Taboo-Banner-copy.jpg
END:VEVENT
BEGIN:VEVENT
DTSTART;VALUE=DATE:20231117
DTEND;VALUE=DATE:20231120
DTSTAMP:20260422T153530
CREATED:20230917T004038Z
LAST-MODIFIED:20230917T004038Z
UID:3214-1700179200-1700438399@pulsemagazine.ca
SUMMARY:The Everything To Do With Sex Show (Edmonton)
DESCRIPTION:The Everything To Do With Sex Show provides an upscale adult playground dedicated to enhancing lifestyles\, encouraging romance\, personal betterment and all things Taboo. Enjoy entertainment\, provocative and educational seminars\, unique shopping\, fashion shows and LIVE demonstrations.
URL:https://pulsemagazine.ca/event/the-everything-to-do-with-sex-show-edmonton/
LOCATION:Edmonton Expo Centre\, Edmonton\, AB\, Canada
CATEGORIES:Consumer Event
ATTACH;FMTTYPE=image/jpeg:https://pulsemagazine.ca/wp-content/uploads/2023/09/Taboo-Banner-copy.jpg
END:VEVENT
BEGIN:VEVENT
DTSTART;VALUE=DATE:20231110
DTEND;VALUE=DATE:20231113
DTSTAMP:20260422T153530
CREATED:20230917T003730Z
LAST-MODIFIED:20231015T230527Z
UID:3209-1699574400-1699833599@pulsemagazine.ca
SUMMARY:Everything to Do About Sexy Show (Calgary)
DESCRIPTION:The Everything To Do With Sex Show provides an upscale adult playground dedicated to enhancing lifestyles\, encouraging romance\, personal betterment and all things Taboo. Enjoy entertainment\, provocative and educational seminars\, unique shopping\, fashion shows and LIVE demonstrations.
URL:https://pulsemagazine.ca/event/everything-to-do-about-sexy-show-calgary/
LOCATION:BMO Centre\, BMO Centre\, Calgary\, Alberta\, Canada
CATEGORIES:Consumer Event
ATTACH;FMTTYPE=image/jpeg:https://pulsemagazine.ca/wp-content/uploads/2023/09/Taboo-Banner-copy.jpg
END:VEVENT
BEGIN:VEVENT
DTSTART;VALUE=DATE:20231013
DTEND;VALUE=DATE:20231016
DTSTAMP:20260422T153530
CREATED:20230528T011835Z
LAST-MODIFIED:20230917T004940Z
UID:2125-1697155200-1697414399@pulsemagazine.ca
SUMMARY:The Everything To Do With Sex Show (Toronto)
DESCRIPTION:The Everything To Do With Sex Show provides an upscale adult playground dedicated to enhancing lifestyles\, encouraging romance\, personal betterment and all things Taboo. Enjoy entertainment\, provocative and educational seminars\, unique shopping\, fashion shows and LIVE demonstrations.
URL:https://pulsemagazine.ca/event/the-everything-to-do-with-sex-show-toronto/
LOCATION:International Centre Hall\, 6458 Viscount Road\, Mississauga\, ON\, L4V 1H3\, Canada
CATEGORIES:Consumer Event
ATTACH;FMTTYPE=image/jpeg:https://pulsemagazine.ca/wp-content/uploads/2023/09/Taboo-Banner-copy.jpg
END:VEVENT
END:VCALENDAR